BEGIN:VCALENDAR
VERSION:2.0
PRODID:-//ChamberMaster//Event Calendar 2.0//EN
METHOD:PUBLISH
X-PUBLISHED-TTL:P3D
REFRESH-INTERVAL:P3D
CALSCALE:GREGORIAN
BEGIN:VEVENT
DTSTART:20260902T203000Z
DTEND:20260903T000000Z
X-MICROSOFT-CDO-ALLDAYEVENT:FALSE
SUMMARY:2026 Cruise Night on Main Sponsorship Registration
DESCRIPTION:29th Annual Cruise Night on Main Street\n\nWednesday\, September 2\, 2026\n\n4:30 p.m. to  8:00 p.m. \n\nMain Street\, Middletown\, CT \n\nDownload Sponsorship Flyer Here  \n\nProceeds Benefit Middletown Youth Programs  \n\n\n	The Hal Kaplan Middletown Mentor Program  \n	Middletown Recreation   \n	Middletown Summer Youth Employment Program  \n\n\nSuggested Donation: $10 per Car  \n\nThis event is made possible by the generous support of our volunteers\, including:\n\n\n	Connecticut Military Corvette Club\n	Garage Guys Car Club   \n\n\nCome enjoy a night of classic cars\, community spirit\, and support for local youth programs!
X-ALT-DESC;FMTTYPE=text/html:<p style="text-align: center\;"><strong>29th Annual Cruise Night on Main Street</strong><br />\n<strong>Wednesday\, September 2\, 2026</strong><br />\n<strong>4:30 p.m. to&nbsp\;&nbsp\;8:00 p.m.</strong>&nbsp\;<br />\n<strong>Main Street\, Middletown\, CT</strong>&nbsp\;</p>\n\n<p><strong>Download Sponsorship Flyer <u>Here</u></strong> &#128196\;</p>\n\n<p><strong>Proceeds Benefit Middletown Youth Programs</strong> &#127775\;</p>\n\n<ul>\n	<li>The Hal Kaplan Middletown Mentor Program &#129309\;</li>\n	<li>Middletown Recreation &#127966\;&#65039\;</li>\n	<li>Middletown Summer Youth Employment Program &#128188\;</li>\n</ul>\n\n<p><strong>Suggested Donation: $10 per Car</strong> &#128181\;</p>\n\n<p>This event is made possible by the generous support of our volunteers\, including:</p>\n\n<ul>\n	<li>Connecticut Military Corvette Club</li>\n	<li>Garage Guys Car Club &#127950\;&#65039\;</li>\n</ul>\n\n<p>Come enjoy a night of classic cars\, community spirit\, and support for local youth programs! &#127881\;</p>\n
LOCATION:Main Street\, Middletown\, CT
UID:e.1932.35107
SEQUENCE:3
DTSTAMP:20260424T230110Z
URL:https://business.middlesexchamber.com/events/details/2026-cruise-night-on-main-sponsorship-registration-35107
END:VEVENT

END:VCALENDAR
