BEGIN:VCALENDAR
VERSION:2.0
PRODID:-//ChamberMaster//Event Calendar 2.0//EN
METHOD:PUBLISH
X-PUBLISHED-TTL:P3D
REFRESH-INTERVAL:P3D
CALSCALE:GREGORIAN
BEGIN:VEVENT
DTSTART:20260606T160000Z
DTEND:20260606T230000Z
X-MICROSOFT-CDO-ALLDAYEVENT:FALSE
SUMMARY:2026 Middletown Pride Vendor Registration
DESCRIPTION:ATTENTION FOOD VENDORS: Please fill out this application request form first. Do not register on this page\, without submitting a request. Important: If you register on this page without completing the application request\, your payment will be refunded\, and we will contact you to complete the correct process.\n\n\n\nVendor Registration Deadline: Monday\, April 20\, 2026 by 2:00 p.m. No late applications will be considered or accepted. \n\n\n\nPlease Note: after you register as a vendor for Middletown Pride\, the following steps need to be taken if it applies to your organization. If you do not submit prior to the deadline\, you will not be allowed to participate.\n\n\n\nREQUIREMENT FOR VENDORS SELLING PRODUCTS\n\n\n\nThe City of Middletown now requires that all vendors selling products\, be approved annually by the Middletown Police Department.  To be in compliance with their requirements\, please drop off/send in the following to the Middletown Police Department:\n\n	$5.00 background check fee for each worker in your booth that will be handling money. Cash or Check accepted. Check made out to the Middletown Police Department.\n	Copy of photo id or driver's license for each worker in your booth that will be handling money.\n	A VALID copy of your Sales and Use Permit issued by the State of CT\, or your nonprofit paperwork.\n	When dropping off or sending in information to the MPD\, please indicate which business you are with\, and that this is for the Middletown PRIDE event.\n\n  \n\nDEADLINES: Vendors must be registered\, and all documents must be submitted to the Middletown Police Department\, by Monday\, April 20\, 2026 by 2:00 p.m. This deadline will be strictly enforced. \n\n\n\nTheir address is: \n\nMiddletown Police Department ATTN: Records\n\n222 Main Street\n\nMiddletown\, CT 06457\n\n \n\nIf you are participating in other City of Middletown events\, you only have to submit annually.
X-ALT-DESC;FMTTYPE=text/html:<span style="font-family:arial\;"><span style="font-size:12px\;"><span style="font-size:16px\;"><strong><span style="background:yellow\;"><span style="color:black\;"><span style="background-color:#FFD700\;">ATTENTION FOOD VENDORS:</span></span></span></strong><span style="background:yellow\;"><span style="color:black\;"><span style="background-color:#FFD700\;">&nbsp\;Please fill out this&nbsp\;</span></span></span><strong><span style="background:yellow\;"><span style="color:blue\;"><a href="https://docs.google.com/forms/d/e/1FAIpQLSesk4bETbp-tAQJ8dwex2ZzLUkSmQhpRqV5Sz2KtPfWVqDNiA/viewform"><span style="background-color:#FFD700\;">application request form</span></a></span></span></strong><span style="background-color:#FFD700\;">&nbsp\;</span><span style="background:yellow\;"><span style="color:black\;"><span style="background-color:#FFD700\;">first. </span><strong><span style="background-color:#FFD700\;">Do not register on this page\,</span></strong><span style="background-color:#FFD700\;">&nbsp\;without submitting a request. </span><strong><span style="background-color:#FFD700\;">Important:</span></strong><span style="background-color:#FFD700\;">&nbsp\;If you register on this page without completing the application request\, your payment will be refunded\, and we will contact you to complete the correct process.</span></span></span></span><br />\n<br />\n<strong><span style="background-color:#FFFF00\;">Vendor Registration Deadline</span>: </strong>Monday\, April 20\, 2026 by 2:00 p.m.&nbsp\;No late applications will be considered or accepted.&nbsp\;<br />\n<br />\nPlease Note: after you register as a vendor for Middletown Pride\, the following steps need to be taken <u>if it applies to your organization</u>. If you do not submit prior to the deadline\, you will not be allowed to participate.<br />\n<br />\n<span style="background:yellow\;"><strong>REQUIREMENT FOR VENDORS<u>&nbsp\;SELLING PRODUCTS</u></strong></span><br />\n<br />\nThe City of Middletown now requires that all vendors&nbsp\;<strong><u>selling products\,</u></strong>&nbsp\;be approved annually by the Middletown Police Department.&nbsp\; To be in compliance with their requirements\, please drop off/send in the following to the Middletown Police Department:</span></span>\n<ul>\n	<li><span style="font-family:arial\;"><span style="font-size:12px\;">$5.00 background check fee for each worker in your booth that will be&nbsp\;<strong><u>handling money</u></strong>. Cash or Check accepted. Check made out to the Middletown Police Department.</span></span></li>\n	<li><span style="font-family:arial\;"><span style="font-size:12px\;">Copy of photo id or driver&#39\;s license for each worker in your booth that will be&nbsp\;<strong><u>handling money</u></strong>.</span></span></li>\n	<li><span style="font-family:arial\;"><span style="font-size:12px\;">A&nbsp\;<strong>VALID</strong>&nbsp\;copy of your Sales and Use Permit issued by the State of CT\, or your nonprofit paperwork.</span></span></li>\n	<li><span style="font-family:arial\;"><span style="font-size:12px\;">When dropping off or sending in information to the MPD\, please indicate which business you are with\, and that this is for the Middletown PRIDE event.</span></span></li>\n</ul>\n<span style="font-family:arial\;"><span style="font-size:12px\;"> &nbsp\;<br />\n<strong>DEADLINES: Vendors must be registered\, and all documents must be submitted to the Middletown Police Department\, by Monday\, April 20\, 2026 by 2:00 p.m.</strong>&nbsp\;<strong>This deadline will be strictly enforced.&nbsp\;</strong><br />\n<br />\nTheir address is:&nbsp\;<br />\nMiddletown Police Department ATTN: Records<br />\n222 Main Street<br />\nMiddletown\, CT 06457<br />\n&nbsp\;<br />\n<em>If you are participating in other City of Middletown events\, you only have to submit annually.</em></span></span>
LOCATION:Main Street and surrounding areas
UID:e.1932.34761
SEQUENCE:3
DTSTAMP:20260424T192622Z
URL:https://business.middlesexchamber.com/events/details/2025-middletown-pride-vendor-registration-34761
END:VEVENT

END:VCALENDAR
