BEGIN:VCALENDAR
VERSION:2.0
PRODID:-//ChamberMaster//Event Calendar 2.0//EN
METHOD:PUBLISH
X-PUBLISHED-TTL:P3D
REFRESH-INTERVAL:P3D
CALSCALE:GREGORIAN
BEGIN:VEVENT
DTSTART:20251212T223000Z
DTEND:20251213T043000Z
X-MICROSOFT-CDO-ALLDAYEVENT:FALSE
SUMMARY:2025 Hoilday on Main Street Magic of Middletown Pub Crawl!
DESCRIPTION:ELF-ed Up Pub Crawl\n\nFriday\, December 12\, 2025 - Downtown Middletown\n\n\n\nJoin us for a festive night of holiday fun as we kick off the season with the ELF-ed Up Pub Crawl! Grab your friends\, wear your best ugly holiday sweater\, and get ready for an unforgettable evening on Main Street.\n\n\n\nEvent Highlights\n\n	Ride on our decorated holiday pub-crawl bus which kicks off the night by participating in the Middletown Decorated Holiday Vehicle Parade\n	Visit several Downtown Middletown establishments\n	Take part in our Ugly Sweater Contest\n	Enjoy giveaways\, contests\, laughs\, and plenty of holiday cheer\n\nSchedule Snapshot\n\nA detailed schedule will be sent to all participants before the event\, but here's a quick overview:\n\n	5:30 p.m. to 6:15 p.m. - Arrival & check-in\n	6:20 p.m. - Bus departs Downtown Middletown to line up at Middletown High School to participate in Decorated Holiday Vehicle Parade. \n	7:00 p.m. - Parade takes off from Middletown High School and travels through Downtown Middletown\n	After Parade: Evening pub crawl\, visiting multiple local spots throughout Downtown \n\nWhat to Know\n\nA full what to bring list and all final details will be included in your reminder email sent to you a few days prior to the event.\n\n\n\nUgly Sweater Contest\n\nWear your ugliest holiday sweater for your chance to win a prize!
X-ALT-DESC;FMTTYPE=text/html:<strong>ELF-ed Up Pub Crawl</strong><br />\n<strong>Friday\, December 12\, 2025 - Downtown Middletown</strong><br />\n<br />\nJoin us for a festive night of holiday fun as we kick off the season with the ELF-ed Up Pub Crawl! Grab your friends\, wear your best ugly holiday sweater\, and get ready for an unforgettable evening on Main Street.<br />\n<br />\n<strong>Event Highlights</strong>\n<ul>\n	<li>Ride on our decorated holiday pub-crawl bus which kicks off the night by participating&nbsp\;in the Middletown Decorated Holiday Vehicle Parade</li>\n	<li>Visit several Downtown Middletown establishments</li>\n	<li>Take part in our Ugly Sweater Contest</li>\n	<li>Enjoy giveaways\, contests\, laughs\, and plenty of holiday cheer</li>\n</ul>\n<strong>Schedule Snapshot</strong><br />\nA detailed schedule will be sent to all participants before the event\, but here&#39\;s a quick overview:\n<ul>\n	<li><strong>5:30 p.m. to 6:15 p.m.</strong> - Arrival &amp\; check-in</li>\n	<li><strong>6:20 p.m.</strong> - Bus departs Downtown Middletown to line up at Middletown High School to participate in Decorated Holiday Vehicle Parade.&nbsp\;</li>\n	<li><strong>7:00 p.m. </strong>- Parade takes off from Middletown High School and travels through Downtown Middletown</li>\n	<li><strong>After Parade</strong>: Evening pub crawl\, visiting multiple local spots throughout Downtown&nbsp\;</li>\n</ul>\n<strong>What to Know</strong><br />\nA full what to bring list and all final details will be included in your reminder email sent to you a few days prior to the event.<br />\n<br />\n<strong>Ugly Sweater Contest</strong><br />\nWear your ugliest holiday sweater for your chance to win a prize!
LOCATION:
UID:e.1932.33586
SEQUENCE:3
DTSTAMP:20260423T112249Z
URL:https://business.middlesexchamber.com/events/details/2025-hoilday-on-main-street-magic-of-middletown-pub-crawl-33586
END:VEVENT

END:VCALENDAR
