BEGIN:VCALENDAR
VERSION:2.0
PRODID:-//ChamberMaster//Event Calendar 2.0//EN
METHOD:PUBLISH
X-PUBLISHED-TTL:P3D
REFRESH-INTERVAL:P3D
CALSCALE:GREGORIAN
BEGIN:VEVENT
DTSTART:20250611T203000Z
DTEND:20250612T000000Z
X-MICROSOFT-CDO-ALLDAYEVENT:FALSE
SUMMARY:2025 Cruise Night on Main Sponsorship Registration
DESCRIPTION:28th Annual Cruise Night on Main Street\n\n Wednesday\, June 11\, 2025\n\n  4:30 p.m. ? 8:00 p.m. \n\n Main Street\, Middletown\, CT \n\nDownload Sponsorship Flyer Here  \n\nProceeds Benefit Middletown Youth Programs  \n\n\n	The Hal Kaplan Middletown Mentor Program  \n	Middletown Recreation   \n	Middletown Summer Youth Employment Program  \n\n\nSuggested Donation: $10 per Car  \n\nThis event is made possible by the generous support of our volunteers\, including:\n\n\n	Connecticut Military Corvette Club\n	Garage Guys Car Club   \n\n\nCome enjoy a night of classic cars\, community spirit\, and support for local youth programs!
X-ALT-DESC;FMTTYPE=text/html:<p style="text-align: center\;"><strong>28th Annual Cruise Night on Main Street</strong><br />\n&#128197\;<strong>Wednesday\, June 11\, 2025</strong><br />\n&#128339\;&nbsp\;<strong>4:30 p.m. ? 8:00 p.m.</strong>&nbsp\;<br />\n<span style="text-align: center\;">&#128205\;</span><strong>Main Street\, Middletown\, CT</strong>&nbsp\;</p>\n\n<p><strong>Download Sponsorship Flyer <u><a href="https://chambermaster.blob.core.windows.net/userfiles/UserFiles/chambers/1932/File/Cruise_Night/2025/2025-Sponsor-Flyer--Car-Cruise.pdf">Here</a></u></strong> &#128196\;</p>\n\n<p><strong>Proceeds Benefit Middletown Youth Programs</strong> &#127775\;</p>\n\n<ul>\n	<li>The Hal Kaplan Middletown Mentor Program &#129309\;</li>\n	<li>Middletown Recreation &#127966\;&#65039\;</li>\n	<li>Middletown Summer Youth Employment Program &#128188\;</li>\n</ul>\n\n<p><strong>Suggested Donation: $10 per Car</strong> &#128181\;</p>\n\n<p>This event is made possible by the generous support of our volunteers\, including:</p>\n\n<ul>\n	<li>Connecticut Military Corvette Club</li>\n	<li>Garage Guys Car Club &#127950\;&#65039\;</li>\n</ul>\n\n<p>Come enjoy a night of classic cars\, community spirit\, and support for local youth programs! &#127881\;</p>\n
LOCATION:Main Street\, Middletown\, CT
UID:e.1932.30694
SEQUENCE:3
DTSTAMP:20260424T114433Z
URL:https://business.middlesexchamber.com/events/details/2025-cruise-night-on-main-sponsorship-registration-30694
END:VEVENT

END:VCALENDAR
