BEGIN:VCALENDAR
VERSION:2.0
PRODID:-//ChamberMaster//Event Calendar 2.0//EN
METHOD:PUBLISH
X-PUBLISHED-TTL:P3D
REFRESH-INTERVAL:P3D
CALSCALE:GREGORIAN
BEGIN:VEVENT
DTSTART:20220615T190000Z
DTEND:20220616T003000Z
X-MICROSOFT-CDO-ALLDAYEVENT:FALSE
SUMMARY:2022 Cruise Night on Main Volunteer Sign Up
DESCRIPTION:Sign Up Here\n\nto become a Volunteer for \n\nCruise Night on Main\n\nWednesday\, June 15\, 2022\n\n\n\nVolunteers needed beginning at 3:00 p.m. \n\n\n\nCruise Night on Main runs on dedicated volunteers helping with the event. Volunteering is a fun and rewarding experience. We need volunteers for tasks such as parking\, flaggers\, gate entry\, to set up\, and cleanup.\n\nAll Volunteers receive a Volunteer T-shirt.
X-ALT-DESC;FMTTYPE=text/html:<div style="text-align: center\;"><span style="font-size: 22px\;"><a href="https://business.middlesexchamber.com/form/view/26257"><b>Sign Up Here</b></a><br />\nto become a Volunteer for&nbsp\;</span></div>\n\n<div style="text-align: center\;"><span style="font-size: 22px\;">Cruise Night on Main<br />\nWednesday\, June 15\, 2022<br />\n<br />\nVolunteers needed beginning at 3:00 p.m.&nbsp\;</span><br />\n<br />\nCruise Night on Main runs on dedicated volunteers helping with the event. Volunteering is a fun and rewarding experience. We need volunteers for tasks such as parking\, flaggers\, gate entry\, to set up\, and cleanup.<br />\nAll Volunteers receive a Volunteer T-shirt.<br />\n&nbsp\;</div>\n
LOCATION:Main Street\, Middletown
UID:e.1932.23645
SEQUENCE:3
DTSTAMP:20260421T044611Z
URL:https://business.middlesexchamber.com/events/details/2022-cruise-night-on-main-volunteer-sign-up-23645
END:VEVENT

END:VCALENDAR
