BEGIN:VCALENDAR
VERSION:2.0
PRODID:-//ChamberMaster//Event Calendar 2.0//EN
METHOD:PUBLISH
X-PUBLISHED-TTL:P3D
REFRESH-INTERVAL:P3D
CALSCALE:GREGORIAN
BEGIN:VEVENT
DTSTART;VALUE=DATE:20211126
DTEND;VALUE=DATE:20211127
TRANSP:TRANSPARENT
X-MICROSOFT-CDO-ALLDAYEVENT:TRUE
SUMMARY:2021 Holiday On Main Sponsors
DESCRIPTION:Holiday on Main Street relies on the generosity of Sponsors so that children and families can make holiday memories in Downtown Middletown.\n\n\n\nClick here to view the sponsorship flyer\n\n \n\nFor a complete listing of events\, please visit www.holidayonmain.com
X-ALT-DESC;FMTTYPE=text/html:Holiday on Main Street relies on the generosity of Sponsors so that children and families can make holiday memories in Downtown Middletown.<br>\n<br>\n<span style="font-size:20px\;"><strong><a href="https://chambermaster.blob.core.windows.net/userfiles/UserFiles/chambers/1932/File/Holiday_on_Main/2021/Holiday-on-Main-Street-presents-Magic-of-Middletown-2021--Sponsorship-Flyer-(2)(1).pdf">Click here to view the sponsorship flyer</a></strong></span><br>\n&nbsp\;<br>\nFor a complete listing of events\, please visit www.holidayonmain.com<br>\n<br>\n&nbsp\;
LOCATION:Main Street\, Middletown
UID:e.1932.22242
SEQUENCE:3
DTSTAMP:20260423T082429Z
URL:https://business.middlesexchamber.com/events/details/2021-holiday-on-main-sponsors-22242
END:VEVENT

END:VCALENDAR
