BEGIN:VCALENDAR
VERSION:2.0
PRODID:-//ChamberMaster//Event Calendar 2.0//EN
METHOD:PUBLISH
X-PUBLISHED-TTL:P3D
REFRESH-INTERVAL:P3D
CALSCALE:GREGORIAN
BEGIN:VEVENT
DTSTART:20171130T223000Z
DTEND:20171201T010000Z
X-MICROSOFT-CDO-ALLDAYEVENT:FALSE
SUMMARY:10th Annual Holly Days Stroll
DESCRIPTION:St. Luke's Community Services' 10th Annual Holly Days Stroll on November 30th\, sponsored by "Lifestyle Financial Strategies\, LLC"\,  will feature 50 decorated mini-Christmas trees (24") and wreaths (24") available for auction. Food\, cash bar & specialty crafters round it out for a great evening for a good cause to support our programs for just a $20.00 ticket per person. In addition\, trees & wreaths can be purchased for us to deliver to a homebound or lonely older adult or veteran this Christmas. Business sponsorships also available. Call for more info 860-347-5661 or email Eric Rodko at eric@stlukeshome.org
X-ALT-DESC;FMTTYPE=text/html:St. Luke&#39\;s Community Services&#39\; 10th Annual Holly Days Stroll&nbsp\;on November 30th\, sponsored by &quot\;Lifestyle Financial Strategies\, LLC&quot\;\, &nbsp\;will feature 50 decorated mini-Christmas trees (24&quot\;) and wreaths (24&quot\;) available for auction. Food\, cash bar &amp\; specialty crafters round it out for a great evening for a good cause to support our programs for just a $20.00 ticket per person. In addition\, trees &amp\; wreaths can be purchased for us to deliver to a homebound or lonely older adult or veteran this Christmas. Business sponsorships also available. Call for more info 860-347-5661 or email Eric Rodko at eric@stlukeshome.org
LOCATION:The Inn at Middletown 70 Main Street Middletown\, CT
UID:e.1932.4714
SEQUENCE:3
DTSTAMP:20260423T182544Z
URL:https://business.middlesexchamber.com/events/details/10th-annual-holly-days-stroll-4714
END:VEVENT

END:VCALENDAR
